BEGIN:VCALENDAR
VERSION:2.0
PRODID:-//Nordic Vitalité - ECPv6.15.20//NONSGML v1.0//EN
CALSCALE:GREGORIAN
METHOD:PUBLISH
X-WR-CALNAME:Nordic Vitalité
X-ORIGINAL-URL:https://nordicvitalite.fr
X-WR-CALDESC:Évènements pour Nordic Vitalité
REFRESH-INTERVAL;VALUE=DURATION:PT1H
X-Robots-Tag:noindex
X-PUBLISHED-TTL:PT1H
BEGIN:VTIMEZONE
TZID:UTC
BEGIN:STANDARD
TZOFFSETFROM:+0000
TZOFFSETTO:+0000
TZNAME:UTC
DTSTART:20230101T000000
END:STANDARD
END:VTIMEZONE
BEGIN:VEVENT
DTSTART;TZID=UTC:20241012T090000
DTEND;TZID=UTC:20241012T123000
DTSTAMP:20260425T165055
CREATED:20180503T021243Z
LAST-MODIFIED:20240922T192205Z
UID:1522-1728723600-1728736200@nordicvitalite.fr
SUMMARY:Marche nordique\, rdv 9H00\, Saint Emilion
DESCRIPTION:Marche nordique de 12 km avec CHARLOTTE  et JEAN-MICHEL; très belle marche avec un peu de dénivelé\, superbes paysages et découverte de St-Emilion autrement. Quelques passages atypiques et lieux pittoresques.\nRdv à 9 h à l’espace Guadet\nCovoiturage au départ de planète Bordeaux à 8H30
URL:https://nordicvitalite.fr/event/marche-nordique-rdv-9h00-saint-emilion/
LOCATION:espace GUADET\, st emilion\, France
CATEGORIES:marche normale à rapide
END:VEVENT
END:VCALENDAR