BEGIN:VCALENDAR
VERSION:2.0
PRODID:-//Nordic Vitalité - ECPv6.15.20//NONSGML v1.0//EN
CALSCALE:GREGORIAN
METHOD:PUBLISH
X-WR-CALNAME:Nordic Vitalité
X-ORIGINAL-URL:https://nordicvitalite.fr
X-WR-CALDESC:Évènements pour Nordic Vitalité
REFRESH-INTERVAL;VALUE=DURATION:PT1H
X-Robots-Tag:noindex
X-PUBLISHED-TTL:PT1H
BEGIN:VTIMEZONE
TZID:UTC
BEGIN:STANDARD
TZOFFSETFROM:+0000
TZOFFSETTO:+0000
TZNAME:UTC
DTSTART:20240101T000000
END:STANDARD
END:VTIMEZONE
BEGIN:VEVENT
DTSTART;TZID=UTC:20250305T090000
DTEND;TZID=UTC:20250305T123000
DTSTAMP:20260423T115045
CREATED:20210530T131703Z
LAST-MODIFIED:20250224T151841Z
UID:2365-1741165200-1741177800@nordicvitalite.fr
SUMMARY:Marche nordique\, rdv 9H00\, église de Cameyrac
DESCRIPTION:Marche de 12 KM avec CHRISTIAN \n.
URL:https://nordicvitalite.fr/event/2365/
LOCATION:parking eglise de Cameyrac\, Cameyrac\, France
CATEGORIES:marche normale à rapide
END:VEVENT
END:VCALENDAR