BEGIN:VCALENDAR
VERSION:2.0
PRODID:-//Nordic Vitalité - ECPv6.15.20//NONSGML v1.0//EN
CALSCALE:GREGORIAN
METHOD:PUBLISH
X-WR-CALNAME:Nordic Vitalité
X-ORIGINAL-URL:https://nordicvitalite.fr
X-WR-CALDESC:Évènements pour Nordic Vitalité
REFRESH-INTERVAL;VALUE=DURATION:PT1H
X-Robots-Tag:noindex
X-PUBLISHED-TTL:PT1H
BEGIN:VTIMEZONE
TZID:UTC
BEGIN:STANDARD
TZOFFSETFROM:+0000
TZOFFSETTO:+0000
TZNAME:UTC
DTSTART:20240101T000000
END:STANDARD
END:VTIMEZONE
BEGIN:VEVENT
DTSTART;TZID=UTC:20250419T090000
DTEND;TZID=UTC:20250419T123000
DTSTAMP:20260423T102419
CREATED:20210212T160004Z
LAST-MODIFIED:20250224T145239Z
UID:2271-1745053200-1745065800@nordicvitalite.fr
SUMMARY:Marche nordique\, rdv 9H00\, église le POUT
DESCRIPTION:Marche de 12 KM avec BRUNO et SANDRINE sur un circuit champêtre à travers bois\, prairies\, quelques vignes et des petites routes très peu fréquentées. \nCovoiturage au départ de Planète Bordeaux : 8 H40
URL:https://nordicvitalite.fr/event/2271/
LOCATION:Eglise du POUT\, POUT\, 33670\, France
CATEGORIES:marche normale à rapide
END:VEVENT
END:VCALENDAR