BEGIN:VCALENDAR
VERSION:2.0
PRODID:-//Nordic Vitalité - ECPv6.15.20//NONSGML v1.0//EN
CALSCALE:GREGORIAN
METHOD:PUBLISH
X-ORIGINAL-URL:https://nordicvitalite.fr
X-WR-CALDESC:Évènements pour Nordic Vitalité
REFRESH-INTERVAL;VALUE=DURATION:PT1H
X-Robots-Tag:noindex
X-PUBLISHED-TTL:PT1H
BEGIN:VTIMEZONE
TZID:Europe/Paris
BEGIN:DAYLIGHT
TZOFFSETFROM:+0100
TZOFFSETTO:+0200
TZNAME:CEST
DTSTART:20240331T010000
END:DAYLIGHT
BEGIN:STANDARD
TZOFFSETFROM:+0200
TZOFFSETTO:+0100
TZNAME:CET
DTSTART:20241027T010000
END:STANDARD
BEGIN:DAYLIGHT
TZOFFSETFROM:+0100
TZOFFSETTO:+0200
TZNAME:CEST
DTSTART:20250330T010000
END:DAYLIGHT
BEGIN:STANDARD
TZOFFSETFROM:+0200
TZOFFSETTO:+0100
TZNAME:CET
DTSTART:20251026T010000
END:STANDARD
BEGIN:DAYLIGHT
TZOFFSETFROM:+0100
TZOFFSETTO:+0200
TZNAME:CEST
DTSTART:20260329T010000
END:DAYLIGHT
BEGIN:STANDARD
TZOFFSETFROM:+0200
TZOFFSETTO:+0100
TZNAME:CET
DTSTART:20261025T010000
END:STANDARD
END:VTIMEZONE
BEGIN:VEVENT
DTSTART;TZID=Europe/Paris:20250628T100000
DTEND;TZID=Europe/Paris:20250628T170000
DTSTAMP:20260423T102645
CREATED:20250519T144050Z
LAST-MODIFIED:20250519T144731Z
UID:3853-1751104800-1751130000@nordicvitalite.fr
SUMMARY:Journée sport. - St Sulpice et Cameyrac
DESCRIPTION:Bruno tiendra un stand lors de cette journée du sport organisée par la mairie de St Sulpice et Cameyrac . Veuillez vous rapprocher de lui pour les renseignements. 06 17 39 88 30 \nTout adhérent pouvant l’aider sera le bienvenu \nLe but de cette journée est de proposer des jeux\, des défis aux participants et profiter de l’occasion de faire découvrir votre sport… Comme l’année dernière\, nous allons récompenser les meilleurs dans chacune des disciplines et dans chaque catégorie (catégorie -12 ans\, catégorie adultes\, catégorie équipe). \n 
URL:https://nordicvitalite.fr/event/journee-sport-st-sulpice-et-cameyrac/
END:VEVENT
END:VCALENDAR