BEGIN:VCALENDAR
VERSION:2.0
PRODID:-//Nordic Vitalité - ECPv6.15.20//NONSGML v1.0//EN
CALSCALE:GREGORIAN
METHOD:PUBLISH
X-WR-CALNAME:Nordic Vitalité
X-ORIGINAL-URL:https://nordicvitalite.fr
X-WR-CALDESC:Évènements pour Nordic Vitalité
REFRESH-INTERVAL;VALUE=DURATION:PT1H
X-Robots-Tag:noindex
X-PUBLISHED-TTL:PT1H
BEGIN:VTIMEZONE
TZID:UTC
BEGIN:STANDARD
TZOFFSETFROM:+0000
TZOFFSETTO:+0000
TZNAME:UTC
DTSTART:20240101T000000
END:STANDARD
END:VTIMEZONE
BEGIN:VEVENT
DTSTART;TZID=UTC:20251122T090000
DTEND;TZID=UTC:20251122T123000
DTSTAMP:20260422T120545
CREATED:20210425T140955Z
LAST-MODIFIED:20251019T141531Z
UID:2345-1763802000-1763814600@nordicvitalite.fr
SUMMARY:Marche nordique\, rdv 9h00\, Capian
DESCRIPTION:Marche 12 KM avec MURIEL et JOSIANE\nPossibilité de covoiturage À 8H20 au départ de Planète Bordeaux
URL:https://nordicvitalite.fr/event/marche-nordique-rdv-9h00-capian-3/
LOCATION:Parking entrée du village\, CAPIAN\, France
CATEGORIES:Marche Nordic vitalité,marche normale à rapide
END:VEVENT
END:VCALENDAR