BEGIN:VCALENDAR
VERSION:2.0
PRODID:-//Nordic Vitalité - ECPv6.15.20//NONSGML v1.0//EN
CALSCALE:GREGORIAN
METHOD:PUBLISH
X-ORIGINAL-URL:https://nordicvitalite.fr
X-WR-CALDESC:Évènements pour Nordic Vitalité
REFRESH-INTERVAL;VALUE=DURATION:PT1H
X-Robots-Tag:noindex
X-PUBLISHED-TTL:PT1H
BEGIN:VTIMEZONE
TZID:UTC
BEGIN:STANDARD
TZOFFSETFROM:+0000
TZOFFSETTO:+0000
TZNAME:UTC
DTSTART:20230101T000000
END:STANDARD
END:VTIMEZONE
BEGIN:VTIMEZONE
TZID:Europe/Paris
BEGIN:DAYLIGHT
TZOFFSETFROM:+0100
TZOFFSETTO:+0200
TZNAME:CEST
DTSTART:20230326T010000
END:DAYLIGHT
BEGIN:STANDARD
TZOFFSETFROM:+0200
TZOFFSETTO:+0100
TZNAME:CET
DTSTART:20231029T010000
END:STANDARD
BEGIN:DAYLIGHT
TZOFFSETFROM:+0100
TZOFFSETTO:+0200
TZNAME:CEST
DTSTART:20240331T010000
END:DAYLIGHT
BEGIN:STANDARD
TZOFFSETFROM:+0200
TZOFFSETTO:+0100
TZNAME:CET
DTSTART:20241027T010000
END:STANDARD
BEGIN:DAYLIGHT
TZOFFSETFROM:+0100
TZOFFSETTO:+0200
TZNAME:CEST
DTSTART:20250330T010000
END:DAYLIGHT
BEGIN:STANDARD
TZOFFSETFROM:+0200
TZOFFSETTO:+0100
TZNAME:CET
DTSTART:20251026T010000
END:STANDARD
END:VTIMEZONE
BEGIN:VEVENT
DTSTART;TZID=UTC:20241001T090000
DTEND;TZID=UTC:20241001T120000
DTSTAMP:20260425T151401
CREATED:20210425T142004Z
LAST-MODIFIED:20250225T082030Z
UID:2352-1727773200-1727784000@nordicvitalite.fr
SUMMARY:Marche nordique\, rdv 9H00\, Aérodrome d'Yvrac
DESCRIPTION:Marche  avec  BRUNO et CHRISTIAN \, autour de 8 – 10 km\, rdv parking de l’aérodrome  d’Yvrac
URL:https://nordicvitalite.fr/event/marche-nordique-rdv-9h00-aerodrome-dyvrac-6/
LOCATION:Aérodrome d’Yvrac\, Yvrac\, France
CATEGORIES:marche normale à rapide
END:VEVENT
BEGIN:VEVENT
DTSTART;TZID=UTC:20241012T090000
DTEND;TZID=UTC:20241012T123000
DTSTAMP:20260425T151401
CREATED:20180503T021243Z
LAST-MODIFIED:20240922T192205Z
UID:1522-1728723600-1728736200@nordicvitalite.fr
SUMMARY:Marche nordique\, rdv 9H00\, Saint Emilion
DESCRIPTION:Marche nordique de 12 km avec CHARLOTTE  et JEAN-MICHEL; très belle marche avec un peu de dénivelé\, superbes paysages et découverte de St-Emilion autrement. Quelques passages atypiques et lieux pittoresques.\nRdv à 9 h à l’espace Guadet\nCovoiturage au départ de planète Bordeaux à 8H30
URL:https://nordicvitalite.fr/event/marche-nordique-rdv-9h00-saint-emilion/
LOCATION:espace GUADET\, st emilion\, France
CATEGORIES:marche normale à rapide
END:VEVENT
BEGIN:VEVENT
DTSTART;TZID=Europe/Paris:20241019T090000
DTEND;TZID=Europe/Paris:20241019T170000
DTSTAMP:20260425T151401
CREATED:20240922T195431Z
LAST-MODIFIED:20240922T195559Z
UID:3709-1729328400-1729357200@nordicvitalite.fr
SUMMARY:Stage Marin Ortéga pour les guides et les coachs
DESCRIPTION:les horaires sont à confirmer
URL:https://nordicvitalite.fr/event/stage-marin-ortega-pour-les-guides-et-les-coachs/
END:VEVENT
BEGIN:VEVENT
DTSTART;TZID=Europe/Paris:20241020T090000
DTEND;TZID=Europe/Paris:20241020T170000
DTSTAMP:20260425T151401
CREATED:20240922T195655Z
LAST-MODIFIED:20240922T200313Z
UID:3712-1729414800-1729443600@nordicvitalite.fr
SUMMARY:Stage technique Marin Ortéga pour les adhérents
DESCRIPTION:ps : Pour les adhérents inscrits
URL:https://nordicvitalite.fr/event/stage-marin-ortega/
END:VEVENT
END:VCALENDAR